BEGIN:VCALENDAR
VERSION:2.0
PRODID:-//The George At Newnham - ECPv6.15.20//NONSGML v1.0//EN
CALSCALE:GREGORIAN
METHOD:PUBLISH
X-WR-CALNAME:The George At Newnham
X-ORIGINAL-URL:https://thegeorgeatnewnham.co.uk
X-WR-CALDESC:Events for The George At Newnham
REFRESH-INTERVAL;VALUE=DURATION:PT1H
X-Robots-Tag:noindex
X-PUBLISHED-TTL:PT1H
BEGIN:VTIMEZONE
TZID:UTC
BEGIN:STANDARD
TZOFFSETFROM:+0000
TZOFFSETTO:+0000
TZNAME:UTC
DTSTART:20240101T000000
END:STANDARD
END:VTIMEZONE
BEGIN:VEVENT
DTSTART;TZID=UTC:20250610T110000
DTEND;TZID=UTC:20250621T160000
DTSTAMP:20260421T125505
CREATED:20250604T105052Z
LAST-MODIFIED:20250611T133515Z
UID:6080-1749553200-1750521600@thegeorgeatnewnham.co.uk
SUMMARY:FRAGMENTS - Recent works by Esmée and Catherine Van Giap\, Tuesday 10 to Saturday 21 June\, 11.00am to 4.00pm
DESCRIPTION:Catherine and Esmée Van Giap write:\n‘Fragment means ‘a small part broken off or separated from something’.\n‘This exhibition showcases recent works by the two artists side by side\, where they come together to contrast yet complement each other\, and demonstrate the power of the materials being used.\n‘Throughout this exhibition\, we invite visitors to reflect and consider the physical materials used\, as well as the concepts and narratives proposed. As mother and daughter\, shared ideas of natural landscapes\, the sea\, and nature are often repeated in our work\, reminiscent of fond memories of years living by the coast. As we navigate these similarities\, the beauty of the world is depicted in glass and paint\, inviting the audience to appreciate and examine their own relationship with the world around them.’
URL:https://thegeorgeatnewnham.co.uk/event/fragments-recent-works-by-esmee-and-catherine-van-giap-tuesday-10-to-saturday-21-june-11-00am-to-4-00pm/
LOCATION:Upstairs at The George\, The George\, Newnham on Severn\, Gloucestershire\, GL141BS\, United Kingdom
ATTACH;FMTTYPE=image/png:https://thegeorgeatnewnham.co.uk/AutoGeorgeWPSite/wp-content/uploads/2025/06/Van-Giap-Exhibition.png
ORGANIZER;CN="Catherine Van Giap":MAILTO:c.vangiap435@btinternet.com
END:VEVENT
END:VCALENDAR